BEGIN:VCALENDAR
VERSION:2.0
PRODID:-//Canterbury Provincial Fire Brigades Association - ECPv4.6.21//NONSGML v1.0//EN
CALSCALE:GREGORIAN
METHOD:PUBLISH
X-WR-CALNAME:Canterbury Provincial Fire Brigades Association
X-ORIGINAL-URL:http://cpfba.org.nz
X-WR-CALDESC:Events for Canterbury Provincial Fire Brigades Association
BEGIN:VEVENT
DTSTART;VALUE=DATE:20200509
DTEND;VALUE=DATE:20200510
DTSTAMP:20191220T012040
CREATED:20191011T023954Z
LAST-MODIFIED:20191011T023954Z
UID:200-1588982400-1589068799@cpfba.org.nz
SUMMARY:2020 - 09 May - CPFBA Canterbury RCR
DESCRIPTION:Details being finalised. \n
URL:http://cpfba.org.nz/event/2020-09-may-cpfba-canterbury-rcr/
END:VEVENT
END:VCALENDAR