BEGIN:VCALENDAR
VERSION:2.0
PRODID:-//Canterbury Provincial Fire Brigades Association - ECPv4.6.21//NONSGML v1.0//EN
CALSCALE:GREGORIAN
METHOD:PUBLISH
X-WR-CALNAME:Canterbury Provincial Fire Brigades Association
X-ORIGINAL-URL:http://cpfba.org.nz
X-WR-CALDESC:Events for Canterbury Provincial Fire Brigades Association
BEGIN:VEVENT
DTSTART;TZID=Pacific/Auckland:20190914T080000
DTEND;TZID=Pacific/Auckland:20190914T170000
DTSTAMP:20191220T011514
CREATED:20190204T091252Z
LAST-MODIFIED:20190715T215025Z
UID:163-1568448000-1568480400@cpfba.org.nz
SUMMARY:2019 - Conference and AGM - Hanmer Springs
DESCRIPTION:register here \n
URL:http://cpfba.org.nz/event/2019-conference-and-agm-hanmer-springs/
END:VEVENT
END:VCALENDAR