BEGIN:VCALENDAR
VERSION:2.0
PRODID:-//Canterbury Provincial Fire Brigades Association - ECPv4.6.21//NONSGML v1.0//EN
CALSCALE:GREGORIAN
METHOD:PUBLISH
X-WR-CALNAME:Canterbury Provincial Fire Brigades Association
X-ORIGINAL-URL:http://cpfba.org.nz
X-WR-CALDESC:Events for Canterbury Provincial Fire Brigades Association
BEGIN:VEVENT
DTSTART;TZID=Pacific/Auckland:20190727T080000
DTEND;TZID=Pacific/Auckland:20190727T170000
DTSTAMP:20191220T011943
CREATED:20190623T091341Z
LAST-MODIFIED:20190623T091341Z
UID:173-1564214400-1564246800@cpfba.org.nz
SUMMARY:Canterbury Drivers Challenge
DESCRIPTION:Hosted by Mid Canterbury Fire Brigades Sub Association \n
URL:http://cpfba.org.nz/event/canterbury-drivers-challenge/
LOCATION:107 Hasketts Rd\, Templeton\,\, Christchurch\, Selwyn\, 8042
END:VEVENT
END:VCALENDAR